Workbook

Sheet meta
A1: numero | B1: type | C1: nomimage | D1: caption | E1: source
A2: 1 | B2: figure | C2: graphe1 | D2: Évolution du chiffre d'affaires T / T n-1 | E2: DICP, ISPF
A3: 2 | B3: figure | C3: graphe2 | D3: Évolution des exportations de vanille au troisième trimestre | E3: Service des Douanes, ISPF
A4: 3 | B4: figure | C4: graphe3 | D4: Évolution des immatriculations de voitures particulières neuves - en cumul sur les 12 derniers mois | E4: ISPF
A5: 4 | B5: figure | C5: graphe4 | D5: Cours moyen du pétrole | E5: Banque Mondiale
A6: 5 | B6: figure | C6: graphe5 | D6: Indice mensuel des matières premières - alimentaires (Base 100, année 2010) | E6: Banque Mondiale
A7: 6 | B7: figure | C7: graphe6 | D7: Indice mensuel des matières premières - métaux et minéraux (Base 100, année 2010) | E7: Banque Mondiale
A8: 7 | B8: figure | C8: graphe7 | D8: Change - Dollar américain | E8: Banque de Polynésie
A9: 8 | B9: figure | C9: graphe8 | D9: Change - Dollar australien et néo-zélandais | E9: Banque de Polynésie
A10: 9 | B10: figure | C10: graphe9 | D10: Change - 100 yens | E10: Banque de Polynésie
A11: 10 | B11: figure | C11: graphe10 | D11: Indice boursier - Dow Jones | E11: Les Echos Investir
A12: 11 | B12: figure | C12: graphe11 | D12: Indice boursier - Nikkei 225 | E12: Les Echos Investir
A13: 12 | B13: figure | C13: graphe12 | D13: Indice boursier - Eurostoxx | E13: Les Echos Investir
A14: 13 | B14: tab | C14: tab1 | D14: Tableau de bord

Sheet graphe1
A1: CA | B1: Globale | C1: Tourisme | D1: Hors tourisme
A2: T1 2020 | B2: 0.010417672 | C2: -0.18 | D2: 0.047613238
A3: T2 2020 | B3: -0.20284129 | C3: -0.80369484 | D3: -0.066313355
A4: T3 2020 | B4: -0.1287567 | C4: -0.52273864 | D4: -0.036710655
A5: T4 2020 | B5: -0.1 | C5: -0.45 | D5: -0.03
A6: T1 2021 | B6: -0.070721219 | C6: -0.4830993 | D6: -0.0078683066
A7: T2 2021 | B7: 0.15122001 | C7: 1.2444575 | D7: 0.09899266
A8: T3 2021 | B8: 0.076733871 | C8: 0.47043115 | D8: 0.031162639

Sheet graphe2
A1: Année | B1: Recettes à l'export | C1: Prix au kilo
A2: 2015 | B2: 81295456 | C2: 32688.161
A3: 2016 | B3: 98249747 | C3: 33612.64
A4: 2017 | B4: 168149510 | C4: 56218.492
A5: 2018 | B5: 181247174 | C5: 59076.654
A6: 2019 | B6: 169092365 | C6: 60303.982
A7: 2020 | B7: 66599543 | C7: 50150.258
A8: 2021 | B8: 107187148 | C8: 44402.298

Sheet graphe3
A1: Date | B1: Immatriculations
A2: 42248 | B2: 2812
A3: 42278 | B3: 2819
A4: 42309 | B4: 2828
A5: 42339 | B5: 2784
A6: 42370 | B6: 2776
A7: 42401 | B7: 2814
A8: 42430 | B8: 2832
A9: 42461 | B9: 2902
A10: 42491 | B10: 2859
A11: 42522 | B11: 2942
A12: 42552 | B12: 3011
A13: 42583 | B13: 3067
... A74: 44440 | B74: 4684

Sheet graphe4
A1: Date | B1: US$/baril | C1: Euros/baril
A2: 42614 | B2: 45.043333 | C2: 40.192188
A3: 42644 | B3: 49.293333 | C3: 44.694957
A4: 42675 | B4: 45.26 | C4: 41.98228
A5: 42705 | B5: 52.62 | C5: 49.942523
A6: 42736 | B6: 53.59 | C6: 50.436538
A7: 42767 | B7: 54.353333 | C7: 51.031974
A8: 42795 | B8: 50.903333 | C8: 47.62643
A9: 42826 | B9: 52.163333 | C9: 48.726635
A10: 42856 | B10: 49.893333 | C10: 45.117735
A11: 42887 | B11: 46.166667 | C11: 41.117163
A12: 42917 | B12: 47.656667 | C12: 41.365916
A13: 42948 | B13: 49.943333 | C13: 42.266762
... A62: 44440 | B62: 72.8 | C62: 61.8

Sheet graphe5
A1: Date | B1: Alimentaires
A2: 42614 | B2: 90.535962
A3: 42644 | B3: 89.354673
A4: 42675 | B4: 89.921266
A5: 42705 | B5: 90.286513
A6: 42736 | B6: 92.131983
A7: 42767 | B7: 91.737857
A8: 42795 | B8: 90.406645
A9: 42826 | B9: 89.424744
A10: 42856 | B10: 91.818531
A11: 42887 | B11: 91.520724
A12: 42917 | B12: 91.67612
A13: 42948 | B13: 88.501533
... A62: 44440 | B62: 119.09081

Sheet graphe6
A1: Date | B1: Métaux & Minéraux
A2: 42614 | B2: 62.828454
A3: 42644 | B3: 64.132856
A4: 42675 | B4: 71.526692
A5: 42705 | B5: 73.535057
A6: 42736 | B6: 74.544527
A7: 42767 | B7: 77.940417
A8: 42795 | B8: 77.342718
A9: 42826 | B9: 74.041356
A10: 42856 | B10: 72.238722
A11: 42887 | B11: 71.707861
A12: 42917 | B12: 75.387316
A13: 42948 | B13: 81.555211
... A62: 44440 | B62: 116.81299

Sheet graphe7
A1: Date | B1: Dollar américain
A2: 42614 | B2: 106.48
A3: 42644 | B3: 108.2
A4: 42675 | B4: 110.69
A5: 42705 | B5: 113.26
A6: 42736 | B6: 112.31
A7: 42767 | B7: 112.04
A8: 42795 | B8: 111.65
A9: 42826 | B9: 111.47
A10: 42856 | B10: 107.91
A11: 42887 | B11: 106.28
A12: 42917 | B12: 103.58
A13: 42948 | B13: 100.99
... A62: 44440 | B62: 101.36

Sheet graphe8
A1: Date | B1: Dollar australien | C1: Dollar néo-zélandais
A2: 42614 | B2: 80.72 | C2: 77.73
A3: 42644 | B3: 82.36 | C3: 77.42
A4: 42675 | B4: 83.25 | C4: 79.1
A5: 42705 | B5: 83.06 | C5: 79.6
A6: 42736 | B6: 83.67 | C6: 79.9
A7: 42767 | B7: 85.93 | C7: 80.99
A8: 42795 | B8: 85.05 | C8: 78.19
A9: 42826 | B9: 84.02 | C9: 77.68
A10: 42856 | B10: 80.2 | C10: 74.94
A11: 42887 | B11: 80.27 | C11: 76.83
A12: 42917 | B12: 80.66 | C12: 76.24
A13: 42948 | B13: 79.99 | C13: 73.84
... A62: 44440 | B62: 74.22 | C62: 71.59

Sheet graphe9
A1: Date | B1: 100 Yens
A2: 42614 | B2: 104.37
A3: 42644 | B3: 104.3
A4: 42675 | B4: 102.05
A5: 42705 | B5: 97.58
A6: 42736 | B6: 97.51
A7: 42767 | B7: 99.28
A8: 42795 | B8: 98.81
A9: 42826 | B9: 101.1
A10: 42856 | B10: 96.18
A11: 42887 | B11: 95.86
A12: 42917 | B12: 92.15
A13: 42948 | B13: 92.05
... A62: 44440 | B62: 92.03

Sheet graphe10
A1: Date | B1: Dow Jones
A2: 44075 | B2: 28645.66
A3: 44076 | B3: 29100.5
A4: 44077 | B4: 28292.73
A5: 44078 | B5: 28133.31
A6: 44082 | B6: 27500.89
A7: 44083 | B7: 27940.47
A8: 44084 | B8: 27534.58
A9: 44085 | B9: 27665.64
A10: 44088 | B10: 27993.33
A11: 44089 | B11: 27995.6
A12: 44090 | B12: 28032.38
A13: 44091 | B13: 27901.98
... A274: 44469 | B274: 33843.92

Sheet graphe11
A1: Date | B1: Nikkei 225
A2: 44075 | B2: 23138.07
A3: 44076 | B3: 23247.15
A4: 44077 | B4: 23465.53
A5: 44078 | B5: 23205.43
A6: 44081 | B6: 23089.95
A7: 44082 | B7: 23274.13
A8: 44083 | B8: 23032.54
A9: 44084 | B9: 23235.47
A10: 44085 | B10: 23406.49
A11: 44088 | B11: 23559.3
A12: 44089 | B12: 23454.89
A13: 44090 | B13: 23475.53
... A266: 44469 | B266: 29452.66

Sheet graphe12
A1: Date | B1: Eurostoxx
A2: 44075 | B2: 3277.58
A3: 44076 | B3: 3337.77
A4: 44077 | B4: 3304.22
A5: 44078 | B5: 3260.59
A6: 44081 | B6: 3314.07
A7: 44082 | B7: 3267.37
A8: 44083 | B8: 3324.83
A9: 44084 | B9: 3312.77
A10: 44085 | B10: 3315.81
A11: 44088 | B11: 3316.79
A12: 44089 | B12: 3332.26
A13: 44090 | B13: 3338.84
... A280: 44469 | B280: 4048.08

Sheet tab1
A1: ENTREPRISES
A2: Démographie des entreprises | B2: 44075 | C2: 44166 | D2: 44256 | E2: 44348 | F2: 44440 | G2: T / T-1 | H2: T / T-4
A3: Créations | B3: 1731 | C3: 1510 | D3: 1284 | E3: 1172 | F3: 812 | G3: -0.30716724 | H3: -0.53090699
A4: Radiations | B4: 1447 | C4: 1079 | D4: 910 | E4: 771 | F4: 527 | G4: -0.31647211 | H4: -0.6357982
A5: Stock | B5: 72421 | C5: 73073 | D5: 73645 | E5: 74307 | F5: 74891 | G5: 0.0078592865 | H5: 0.034106129
A6: Nbr assujetties à la TVA | B6: 7537 | C6: 7460 | D6: 7332 | E6: 7146 | F6: 6643 | G6: -0.070389029 | H6: -0.11861483
A7: Unité : nombre, moyenne des 12 derniers mois | H7: Sources : ISPF, Contributions
A9: Production | B9: 44075 | C9: 44166 | D9: 44256 | E9: 44348 | F9: 44440 | G9: T / T-1 | H9: T / T-4
A10: Importations de Biens d'équipement | B10: 33212 | C10: 33504 | D10: 33390 | E10: 34963 | F10: 35936 | G10: 0.02782942 | H10: 0.082018548
A11: Importations de Biens intermédiaires | B11: 39359 | C11: 39586 | D11: 40357 | E11: 42915 | F11: 45315 | G11: 0.055924502 | H11: 0.15132498
A12: Consommation Moyenne tension | B12: 212951 | C12: 209666 | D12: 205038 | E12: 208063 | F12: 207694 | G12: -0.0017735013 | H12: -0.02468643
A13: Chambres offertes (Hotels Internationaux) | B13: 608410 | C13: 564512 | D13: 504367 | E13: 643044 | F13: 686004 | G13: 0.066807248 | H13: 0.12753571
A14: Unités : millions de F.CFP, milliers de KwH, nombre, cumul sur 12 mois | H14: Sources : ISPF, Douanes, EDT
A16: Résultats | B16: 44075 | C16: 44166 | D16: 44256 | E16: 44348 | F16: 44440 | G16: T / T-1 | H16: T / T-4
A17: Chiffre d'affaires des entreprises | B17: 836555 | C17: 817394 | D17: 806727 | E17: 838563 | F17: 843552 | G17: 0.0059494635 | H17: 0.0083640645
A18: Exportations locales | B18: 6558 | C18: 5638 | D18: 6216 | E18: 7994 | F18: 8653 | G18: 0.082436828 | H18: 0.31945715
A19: Perles brutes | B19: 2723 | C19: 2390 | D19: 3128 | E19: 4435 | F19: 4715 | G19: 0.06313416 | H19: 0.73154609
A20: Poissons | B20: 1071 | C20: 854 | D20: 793 | E20: 1126 | F20: 1408 | G20: 0.25044405 | H20: 0.3146592
A21: Nuitées touristiques | B21: 1864317 | C21: 1399283 | D21: 1039153 | E21: 1311897 | F21: 1474834 | G21: 0.12419954 | H21: -0.20891458
A22: Nombre de touristes | B22: 116248 | C22: 77017 | D22: 44822 | E22: 57089 | F22: 67521 | G22: 0.18273223 | H22: -0.4191642
A23: Passagers débarqués à Faa'a | B23: 180814 | C23: 120580 | D23: 65540 | E23: 81593 | F23: nd | G23: ='tab1'!$E23/'tab1'!$D23-1 -> 0.24493439 | H23: -
A24: Unités : millions de F.CFP, nombre, cumul sur 12 mois | H24: Sources : ISPF, Contributions, Douanes, ADT
A26: Emploi | B26: 44075 | C26: 44166 | D26: 44256 | E26: 44348 | F26: 44440 | G26: T / T-1 | H26: T / T-4
A27: Nombre de salariés déclarés | B27: 64685 | C27: 64054 | D27: 63460 | E27: 64547 | F27: 64932 | G27: 0.0059646459 | H27: 0.0038185051
A28: Nombre de salariés en Equivalent Temps Plein | B28: 54720 | C28: 53704 | D28: 52725 | E28: 53877 | F28: 54354 | G28: 0.0088534996 | H28: -0.0066885965
A29: Demandes Emploi non satisfaites en Fin de Mois (DEFM) | B29: 10437 | C29: 10470 | D29: 10616 | E29: 11874 | F29: 12157 | G29: 0.023833586 | H29: 0.16479831
A30: Offres d'emploi normal | B30: 2793 | C30: 2397 | D30: 2405 | E30: 3210 | F30: 3365 | G30: 0.048286604 | H30: 0.20479771
A31: Unités : nombre, cumul/moyenne des 12 derniers mois | H31: Sources : ISPF, CPS, SEFI
A33: MENAGES
A34: Revenu | B34: 44075 | C34: 44166 | D34: 44256 | E34: 44348 | F34: 44440 | G34: T / T-1 | H34: T / T-4
A35: Salaire Moyen en équivalent temps plein | B35: 332351 | C35: 334212 | D35: 334595 | E35: 333380 | F35: 333502 | G35: ='tab1'!$F35/'tab1'!$E35-1 -> 0.00036594877 | H35: ='tab1'!$F35/'tab1'!$B35-1 -> 0.0034632061
A36: Masse salariale | B36: 54591 | C36: 53846 | D36: 52940 | E36: 53894 | F36: 54376 | G36: ='tab1'!$F36/'tab1'!$E36-1 -> 0.0089434816 | H36: ='tab1'!$F36/'tab1'!$B36-1 -> -0.0039383781
A37: Unités: millions de F.CFP, moyenne des 12 derniers mois | H37: Sources : ISPF, CPS
A39: Consommation | B39: 44075 | C39: 44166 | D39: 44256 | E39: 44348 | F39: 44440 | G39: T / T-1 | H39: T / T-4
A40: Importations de Produits alimentaires | B40: 45758 | C40: 44605 | D40: 44115 | E40: 43922 | F40: 45045 | G40: ='tab1'!$F40/'tab1'!$E40-1 -> 0.025568052 | H40: ='tab1'!$F40/'tab1'!$B40-1 -> -0.015581975
A41: Importations de Biens de consommation | B41: 27974 | C41: 27886 | D41: 27986 | E41: 30014 | F41: 31732 | G41: ='tab1'!$F41/'tab1'!$E41-1 -> 0.057239955 | H41: ='tab1'!$F41/'tab1'!$B41-1 -> 0.13433903
A42: Chiffre d'affaires Commerces détails | B42: 228990 | C42: 229977 | D42: 230810 | E42: 237794 | F42: 234839 | G42: ='tab1'!$F42/'tab1'!$E42-1 -> -0.012426722 | H42: ='tab1'!$F42/'tab1'!$B42-1 -> 0.0255426
A43: Indice des prix | B43: 107.6 | C43: 107.3 | D43: 107.1 | E43: 107.1 | F43: 107.4 | G43: ='tab1'!$F43/'tab1'!$E43-1 -> 0.0028011204 | H43: ='tab1'!$F43/'tab1'!$B43-1 -> -0.0018587361
A45: Importations de Produits énergétiques | B45: 19802 | C45: 16677 | D45: 14837 | E45: 16281 | F45: 17643 | G45: ='tab1'!$F45/'tab1'!$E45-1 -> 0.083655795 | H45: ='tab1'!$F45/'tab1'!$B45-1 -> -0.10902939
A46: Consommation électricité basse tension | B46: 261777 | C46: 262137 | D46: 260005 | E46: 260472 | F46: 259250 | G46: ='tab1'!$F46/'tab1'!$E46-1 -> -0.0046914832 | H46: ='tab1'!$F46/'tab1'!$B46-1 -> -0.0096532545
...
